Workbook

Sheet Demokratisk bæredygtighed
H2: Projekttitel
B4: Demokratisk bæredygtighed Forsknings- og forskning-praksisprojekter | E4: Forventet projektopstart (MM-ÅÅÅÅ) | L4: Forventet projektafslutning (MM-ÅÅÅÅ)
F6: Total (alle år) | K6: ="1. kalenderår: " & IF($J$4="","202X", YEAR($J$4)) -> 1. kalenderår: 202X | P6: ="2. kalenderår: " & IF($J$4="","202X", YEAR($J$4)+1) -> 2. kalenderår: 202X | U6: ="3. kalenderår: " & IF($J$4="","202X", YEAR($J$4)+2) -> 3. kalenderår: 202X | Z6: ="4. kalenderår: " & IF($J$4="","202X", YEAR($J$4)+3) -> 4. kalenderår: 202X | AE6: ="5. kalenderår: " & IF($J$4="","202X", YEAR($J$4)+4) -> 5. kalenderår: 202X | AJ6: ="6. kalenderår: " & IF($J$4="","202X", YEAR($J$4)+5) -> 6. kalenderår: 202X | AO6: {="7. kalenderår: " & _xlfn.IFS(ISBLANK($J$4), "202X",MONTH($J$4)=1,"N/A",$J$4 ="","202X", TRUE,YEAR($J$4)+6)} -> 7. kalenderår: 202X
F7: Fra VELUX FONDEN | H7: Medfinansiering | K7: Fra VELUX FONDEN | M7: Medfinansiering | P7: Fra VELUX FONDEN | R7: Medfinansiering | U7: Fra VELUX FONDEN | W7: Medfinansiering | Z7: Fra VELUX FONDEN | AB7: Medfinansiering | AE7: Fra VELUX FONDEN | AG7: Medfinansiering | AJ7: Fra VELUX FONDEN | AL7: Medfinansiering | AO7: From Velux Fonden | AQ7: Co-financing
B8: Løn - VIP A | C8: Stillingsbetegnelse | D8: Universitet | F8: mdr. | G8: kr. | H8: mdr. | I8: kr. | K8: mdr. | L8: kr. | M8: mdr. | N8: kr. | P8: mdr. | Q8: kr. | R8: mdr. | S8: kr. | U8: mdr. | V8: kr. | W8: mdr. | X8: kr. | Z8: mdr. | AA8: kr. | AB8: mdr. | AC8: kr. | AE8: mdr. | AF8: kr. | AG8: mdr. | AH8: kr. | AJ8: mdr. | AK8: kr. | AL8: mdr. | AM8: kr. | AO8: Mdr. | AP8: DKK | AQ8: Mdr. | AR8: DKK
B9: Navn | F9: =SUM(K9,P9,U9,Z9,AE9,AJ9,AO9) -> 0 | G9: =SUM(L9,Q9,V9,AA9,AF9,AK9,AP9) -> 0 | H9: =SUM(M9,R9,W9,AB9,AG9,AL9,AQ9) -> 0 | I9: =SUM(N9,S9,X9,AC9,AH9,AM9,AR9) -> 0
F10: =SUM(K10,P10,U10,Z10,AE10,AJ10,AO10) -> 0 | G10: =SUM(L10,Q10,V10,AA10,AF10,AK10,AP10) -> 0 | H10: =SUM(M10,R10,W10,AB10,AG10,AL10,AQ10) -> 0 | I10: =SUM(N10,S10,X10,AC10,AH10,AM10,AR10) -> 0
F11: =SUM(K11,P11,U11,Z11,AE11,AJ11,AO11) -> 0 | G11: =SUM(L11,Q11,V11,AA11,AF11,AK11,AP11) -> 0 | H11: =SUM(M11,R11,W11,AB11,AG11,AL11,AQ11) -> 0 | I11: =SUM(N11,S11,X11,AC11,AH11,AM11,AR11) -> 0
F12: =SUM(K12,P12,U12,Z12,AE12,AJ12,AO12) -> 0 | G12: =SUM(L12,Q12,V12,AA12,AF12,AK12,AP12) -> 0 | H12: =SUM(M12,R12,W12,AB12,AG12,AL12,AQ12) -> 0 | I12: =SUM(N12,S12,X12,AC12,AH12,AM12,AR12) -> 0
B13: Løn - VIP B | C13: Stillingsbetegnelse | D13: Universitet | F13: =SUM(K13,P13,U13,Z13,AE13,AJ13,AO13) -> 0 | G13: =SUM(L13,Q13,V13,AA13,AF13,AK13,AP13) -> 0 | H13: =SUM(M13,R13,W13,AB13,AG13,AL13,AQ13) -> 0 | I13: =SUM(N13,S13,X13,AC13,AH13,AM13,AR13) -> 0
F14: =SUM(K14,P14,U14,Z14,AE14,AJ14,AO14) -> 0 | G14: =SUM(L14,Q14,V14,AA14,AF14,AK14,AP14) -> 0 | H14: =SUM(M14,R14,W14,AB14,AG14,AL14,AQ14) -> 0 | I14: =SUM(N14,S14,X14,AC14,AH14,AM14,AR14) -> 0
F15: =SUM(K15,P15,U15,Z15,AE15,AJ15,AO15) -> 0 | G15: =SUM(L15,Q15,V15,AA15,AF15,AK15,AP15) -> 0 | H15: =SUM(M15,R15,W15,AB15,AG15,AL15,AQ15) -> 0 | I15: =SUM(N15,S15,X15,AC15,AH15,AM15,AR15) -> 0
F16: =SUM(K16,P16,U16,Z16,AE16,AJ16,AO16) -> 0 | G16: =SUM(L16,Q16,V16,AA16,AF16,AK16,AP16) -> 0 | H16: =SUM(M16,R16,W16,AB16,AG16,AL16,AQ16) -> 0 | I16: =SUM(N16,S16,X16,AC16,AH16,AM16,AR16) -> 0
F17: =SUM(K17,P17,U17,Z17,AE17,AJ17,AO17) -> 0 | G17: =SUM(L17,Q17,V17,AA17,AF17,AK17,AP17) -> 0 | H17: =SUM(M17,R17,W17,AB17,AG17,AL17,AQ17) -> 0 | I17: =SUM(N17,S17,X17,AC17,AH17,AM17,AR17) -> 0
F18: =SUM(K18,P18,U18,Z18,AE18,AJ18,AO18) -> 0 | G18: =SUM(L18,Q18,V18,AA18,AF18,AK18,AP18) -> 0 | H18: =SUM(M18,R18,W18,AB18,AG18,AL18,AQ18) -> 0 | I18: =SUM(N18,S18,X18,AC18,AH18,AM18,AR18) -> 0
B19: Løn - VIP C | C19: Stillingsbetegnelse | D19: Universitet | F19: =SUM(K19,P19,U19,Z19,AE19,AJ19,AO19) -> 0 | G19: =SUM(L19,Q19,V19,AA19,AF19,AK19,AP19) -> 0 | H19: =SUM(M19,R19,W19,AB19,AG19,AL19,AQ19) -> 0 | I19: =SUM(N19,S19,X19,AC19,AH19,AM19,AR19) -> 0
F20: =SUM(K20,P20,U20,Z20,AE20,AJ20,AO20) -> 0 | G20: =SUM(L20,Q20,V20,AA20,AF20,AK20,AP20) -> 0 | H20: =SUM(M20,R20,W20,AB20,AG20,AL20,AQ20) -> 0 | I20: =SUM(N20,S20,X20,AC20,AH20,AM20,AR20) -> 0
F21: =SUM(K21,P21,U21,Z21,AE21,AJ21,AO21) -> 0 | G21: =SUM(L21,Q21,V21,AA21,AF21,AK21,AP21) -> 0 | H21: =SUM(M21,R21,W21,AB21,AG21,AL21,AQ21) -> 0 | I21: =SUM(N21,S21,X21,AC21,AH21,AM21,AR21) -> 0
F22: =SUM(K22,P22,U22,Z22,AE22,AJ22,AO22) -> 0 | G22: =SUM(L22,Q22,V22,AA22,AF22,AK22,AP22) -> 0 | H22: =SUM(M22,R22,W22,AB22,AG22,AL22,AQ22) -> 0 | I22: =SUM(N22,S22,X22,AC22,AH22,AM22,AR22) -> 0
F23: =SUM(K23,P23,U23,Z23,AE23,AJ23,AO23) -> 0 | G23: =SUM(L23,Q23,V23,AA23,AF23,AK23,AP23) -> 0 | H23: =SUM(M23,R23,W23,AB23,AG23,AL23,AQ23) -> 0 | I23: =SUM(N23,S23,X23,AC23,AH23,AM23,AR23) -> 0
B24: Løn teknisk TAP universitet | C24: Stilingsbetegnelse | D24: Universitet | F24: =SUM(K24,P24,U24,Z24,AE24,AJ24,AO24) -> 0 | G24: =SUM(L24,Q24,V24,AA24,AF24,AK24,AP24) -> 0 | H24: =SUM(M24,R24,W24,AB24,AG24,AL24,AQ24) -> 0 | I24: =SUM(N24,S24,X24,AC24,AH24,AM24,AR24) -> 0
F25: =SUM(K25,P25,U25,Z25,AE25,AJ25,AO25) -> 0 | G25: =SUM(L25,Q25,V25,AA25,AF25,AK25,AP25) -> 0 | H25: =SUM(M25,R25,W25,AB25,AG25,AL25,AQ25) -> 0 | I25: =SUM(N25,S25,X25,AC25,AH25,AM25,AR25) -> 0
F26: =SUM(K26,P26,U26,Z26,AE26,AJ26,AO26) -> 0 | G26: =SUM(L26,Q26,V26,AA26,AF26,AK26,AP26) -> 0 | H26: =SUM(M26,R26,W26,AB26,AG26,AL26,AQ26) -> 0 | I26: =SUM(N26,S26,X26,AC26,AH26,AM26,AR26) -> 0
F27: =SUM(K27,P27,U27,Z27,AE27,AJ27,AO27) -> 0 | G27: =SUM(L27,Q27,V27,AA27,AF27,AK27,AP27) -> 0 | H27: =SUM(M27,R27,W27,AB27,AG27,AL27,AQ27) -> 0 | I27: =SUM(N27,S27,X27,AC27,AH27,AM27,AR27) -> 0
B28: Løn - andre projektdeltagere | C28: Stillingsbetegnelse | D28: Institution | F28: =SUM(K28,P28,U28,Z28,AE28,AJ28,AO28) -> 0 | G28: =SUM(L28,Q28,V28,AA28,AF28,AK28,AP28) -> 0 | H28: =SUM(M28,R28,W28,AB28,AG28,AL28,AQ28) -> 0 | I28: =SUM(N28,S28,X28,AC28,AH28,AM28,AR28) -> 0
F29: =SUM(K29,P29,U29,Z29,AE29,AJ29,AO29) -> 0 | G29: =SUM(L29,Q29,V29,AA29,AF29,AK29,AP29) -> 0 | H29: =SUM(M29,R29,W29,AB29,AG29,AL29,AQ29) -> 0 | I29: =SUM(N29,S29,X29,AC29,AH29,AM29,AR29) -> 0
C30: Ph.d.-studerende | F30: =SUM(K30,P30,U30,Z30,AE30,AJ30,AO30) -> 0 | G30: =SUM(L30,Q30,V30,AA30,AF30,AK30,AP30) -> 0 | H30: =SUM(M30,R30,W30,AB30,AG30,AL30,AQ30) -> 0 | I30: =SUM(N30,S30,X30,AC30,AH30,AM30,AR30) -> 0
F31: =SUM(K31,P31,U31,Z31,AE31,AJ31,AO31) -> 0 | G31: =SUM(L31,Q31,V31,AA31,AF31,AK31,AP31) -> 0 | H31: =SUM(M31,R31,W31,AB31,AG31,AL31,AQ31) -> 0 | I31: =SUM(N31,S31,X31,AC31,AH31,AM31,AR31) -> 0
F32: =SUM(K32,P32,U32,Z32,AE32,AJ32,AO32) -> 0 | G32: =SUM(L32,Q32,V32,AA32,AF32,AK32,AP32) -> 0 | H32: =SUM(M32,R32,W32,AB32,AG32,AL32,AQ32) -> 0 | I32: =SUM(N32,S32,X32,AC32,AH32,AM32,AR32) -> 0
F33: =SUM(K33,P33,U33,Z33,AE33,AJ33,AO33) -> 0 | G33: =SUM(L33,Q33,V33,AA33,AF33,AK33,AP33) -> 0 | H33: =SUM(M33,R33,W33,AB33,AG33,AL33,AQ33) -> 0 | I33: =SUM(N33,S33,X33,AC33,AH33,AM33,AR33) -> 0
F34: =SUM(K34,P34,U34,Z34,AE34,AJ34,AO34) -> 0 | G34: =SUM(L34,Q34,V34,AA34,AF34,AK34,AP34) -> 0 | H34: =SUM(M34,R34,W34,AB34,AG34,AL34,AQ34) -> 0 | I34: =SUM(N34,S34,X34,AC34,AH34,AM34,AR34) -> 0
F35: =SUM(K35,P35,U35,Z35,AE35,AJ35,AO35) -> 0 | G35: =SUM(L35,Q35,V35,AA35,AF35,AK35,AP35) -> 0 | H35: =SUM(M35,R35,W35,AB35,AG35,AL35,AQ35) -> 0 | I35: =SUM(N35,S35,X35,AC35,AH35,AM35,AR35) -> 0
F36: =SUM(K36,P36,U36,Z36,AE36,AJ36,AO36) -> 0 | G36: =SUM(L36,Q36,V36,AA36,AF36,AK36,AP36) -> 0 | H36: =SUM(M36,R36,W36,AB36,AG36,AL36,AQ36) -> 0 | I36: =SUM(N36,S36,X36,AC36,AH36,AM36,AR36) -> 0
F37: =SUM(K37,P37,U37,Z37,AE37,AJ37,AO37) -> 0 | G37: =SUM(L37,Q37,V37,AA37,AF37,AK37,AP37) -> 0 | H37: =SUM(M37,R37,W37,AB37,AG37,AL37,AQ37) -> 0 | I37: =SUM(N37,S37,X37,AC37,AH37,AM37,AR37) -> 0
F38: =SUM(K38,P38,U38,Z38,AE38,AJ38,AO38) -> 0 | G38: =SUM(L38,Q38,V38,AA38,AF38,AK38,AP38) -> 0 | H38: =SUM(M38,R38,W38,AB38,AG38,AL38,AQ38) -> 0 | I38: =SUM(N38,S38,X38,AC38,AH38,AM38,AR38) -> 0
B39: Projektomkostninger
B40: Drift* | G40: =SUM(L40,Q40,V40,AA40,AF40,AK40,AP40) -> 0 | I40: =SUM(N40,S40,X40,AC40,AH40,AM40,AR40) -> 0
B41: Rejser* | G41: =SUM(L41,Q41,V41,AA41,AF41,AK41,AP41) -> 0 | I41: =SUM(N41,S41,X41,AC41,AH41,AM41,AR41) -> 0
B42: Udstyr* | G42: =SUM(L42,Q42,V42,AA42,AF42,AK42,AP42) -> 0 | I42: =SUM(N42,S42,X42,AC42,AH42,AM42,AR42) -> 0
B43: PhD uddannelsestakst (automatisk jf. aftale om Budgettillæg) | G43: =SUM(L43,Q43,V43,AA43,AF43,AK43,AP43) -> 0 | I43: =SUM(N43,S43,X43,AC43,AH43,AM43,AR43) -> 0 | L43: =SUMIF($C:$C,"Ph.d.-studerende",K:K)/12*'VIP Kategorier'!$B$10+SUMIF($C:$C,"Ph.d.-studerende (4+4)",K:K)*(3/4)/12*'VIP Kategorier'!$B$10+SUMIF($C:$C,"Ph.d.-studerende (3+5)",K:K)*(3/5)/12*'VIP Kategorier'!$B$10 -> 0 | N43: =SUMIF($C:$C,"Ph.d.-studerende",M:M)/12*'VIP Kategorier'!$B$10+SUMIF($C:$C,"Ph.d.-studerende (4+4)",M:M)*(3/4)/12*'VIP Kategorier'!$B$10+SUMIF($C:$C,"Ph.d.-studerende (3+5)",M:M)*(3/5)/12*'VIP Kategorier'!$B$10 -> 0 | Q43: =SUMIF($C:$C,"Ph.d.-studerende",P:P)/12*'VIP Kategorier'!$B$10+SUMIF($C:$C,"Ph.d.-studerende (4+4)",P:P)*(3/4)/12*'VIP Kategorier'!$B$10+SUMIF($C:$C,"Ph.d.-studerende (3+5)",P:P)*(3/5)/12*'VIP Kategorier'!$B$10 -> 0 | S43: =SUMIF($C:$C,"Ph.d.-studerende",R:R)/12*'VIP Kategorier'!$B$10+SUMIF($C:$C,"Ph.d.-studerende (4+4)",R:R)*(3/4)/12*'VIP Kategorier'!$B$10+SUMIF($C:$C,"Ph.d.-studerende (3+5)",R:R)*(3/5)/12*'VIP Kategorier'!$B$10 -> 0 | V43: =SUMIF($C:$C,"Ph.d.-studerende",U:U)/12*'VIP Kategorier'!$B$10+SUMIF($C:$C,"Ph.d.-studerende (4+4)",U:U)*(3/4)/12*'VIP Kategorier'!$B$10+SUMIF($C:$C,"Ph.d.-studerende (3+5)",U:U)*(3/5)/12*'VIP Kategorier'!$B$10 -> 0 | X43: =SUMIF($C:$C,"Ph.d.-studerende",W:W)/12*'VIP Kategorier'!$B$10+SUMIF($C:$C,"Ph.d.-studerende (4+4)",W:W)*(3/4)/12*'VIP Kategorier'!$B$10+SUMIF($C:$C,"Ph.d.-studerende (3+5)",W:W)*(3/5)/12*'VIP Kategorier'!$B$10 -> 0 | AA43: =SUMIF($C:$C,"Ph.d.-studerende",Z:Z)/12*'VIP Kategorier'!$B$10+SUMIF($C:$C,"Ph.d.-studerende (4+4)",Z:Z)*(3/4)/12*'VIP Kategorier'!$B$10+SUMIF($C:$C,"Ph.d.-studerende (3+5)",Z:Z)*(3/5)/12*'VIP Kategorier'!$B$10 -> 0 | AC43: =SUMIF($C:$C,"Ph.d.-studerende",AB:AB)/12*'VIP Kategorier'!$B$10+SUMIF($C:$C,"Ph.d.-studerende (4+4)",AB:AB)*(3/4)/12*'VIP Kategorier'!$B$10+SUMIF($C:$C,"Ph.d.-studerende (3+5)",AB:AB)*(3/5)/12*'VIP Kategorier'!$B$10 -> 0 | AF43: =SUMIF($C:$C,"Ph.d.-studerende",AE:AE)/12*'VIP Kategorier'!$B$10+SUMIF($C:$C,"Ph.d.-studerende (4+4)",AE:AE)*(3/4)/12*'VIP Kategorier'!$B$10+SUMIF($C:$C,"Ph.d.-studerende (3+5)",AE:AE)*(3/5)/12*'VIP Kategorier'!$B$10 -> 0 | AH43: =SUMIF($C:$C,"Ph.d.-studerende",AG:AG)/12*'VIP Kategorier'!$B$10+SUMIF($C:$C,"Ph.d.-studerende (4+4)",AG:AG)*(3/4)/12*'VIP Kategorier'!$B$10+SUMIF($C:$C,"Ph.d.-studerende (3+5)",AG:AG)*(3/5)/12*'VIP Kategorier'!$B$10 -> 0 | AK43: =SUMIF($C:$C,"Ph.d.-studerende",AJ:AJ)/12*'VIP Kategorier'!$B$10+SUMIF($C:$C,"Ph.d.-studerende (4+4)",AJ:AJ)*(3/4)/12*'VIP Kategorier'!$B$10+SUMIF($C:$C,"Ph.d.-studerende (3+5)",AJ:AJ)*(3/5)/12*'VIP Kategorier'!$B$10 -> 0 | AM43: =SUMIF($C:$C,"Ph.d.-studerende",AL:AL)/12*'VIP Kategorier'!$B$10+SUMIF($C:$C,"Ph.d.-studerende (4+4)",AL:AL)*(3/4)/12*'VIP Kategorier'!$B$10+SUMIF($C:$C,"Ph.d.-studerende (3+5)",AL:AL)*(3/5)/12*'VIP Kategorier'!$B$10 -> 0 | AP43: =SUMIF($C:$C,"PhD student",AO:AO)/12*'VIP Kategorier'!$B$10 -> 0 | AR43: =SUMIF($C:$C,"PhD student",AQ:AQ)/12*'VIP Kategorier'!$B$10 -> 0
...

Sheet VEJLEDNING BUDGETSKABELON
B2: Version 020225

Sheet VIP Kategorier
A1: VIP A | B1: VIP B | C1: VIP C | D1: Universiteter | E1: UC stillinger
A2: Professor | B2: Ph.d.-studerende | C2: Videnskabelig assistent | D2: Aalborg Universitet | E2: Ph.d.-studerende
A3: Lektor | B3: Ph.d.-studerende (4+4) | C3: C - Andet | D3: Aarhus Universitet | E3: Andet (skriv selv)
A4: Adjunkt | B4: Ph.d.-studerende (3+5) | D4: Copenhagen Business School
A5: Seniorforsker | B5: Postdoc | D5: Danmarks Tekniske Universitet
A6: Forsker | D6: Fróðskaparsetur Føroya
A7: A - Andet | D7: Ilisimatusarfik
D8: IT-Universitetet
D9: Københavns Universitet
A10: PhD education rate (Dry) | B10: 50000 | D10: Roskilde Universitet
A11: Project supplement (Dry) | B11: 206000 | D11: Syddansk Universitet
